BEGIN:VCALENDAR
VERSION:2.0
PRODID:-//Columbia LRC - ECPv5.9.1//NONSGML v1.0//EN
CALSCALE:GREGORIAN
METHOD:PUBLISH
X-WR-CALNAME:Columbia LRC
X-ORIGINAL-URL:https://www.lrc.columbia.edu
X-WR-CALDESC:Events for Columbia LRC
BEGIN:VTIMEZONE
TZID:America/New_York
BEGIN:DAYLIGHT
TZOFFSETFROM:-0500
TZOFFSETTO:-0400
TZNAME:EDT
DTSTART:20250309T070000
END:DAYLIGHT
BEGIN:STANDARD
TZOFFSETFROM:-0400
TZOFFSETTO:-0500
TZNAME:EST
DTSTART:20251102T060000
END:STANDARD
END:VTIMEZONE
BEGIN:VEVENT
DTSTART;TZID=America/New_York:20250418T150000
DTEND;TZID=America/New_York:20250418T160000
DTSTAMP:20260424T142241
CREATED:20250410T195524Z
LAST-MODIFIED:20250410T195524Z
UID:11436-1744988400-1744992000@www.lrc.columbia.edu
SUMMARY:Instructional Innovation Projects Showcase
DESCRIPTION:Please join us in supporting the work of your colleagues Ling Yan\, Yike Li\, Reem Faraj\, Guadalupe Ruiz Fajardo\, and Francisca Aguilo Mora\, the ’24-’25 Instructional Innovation Grant awardees. \nEach recipient will give a brief overview of their project\, followed by Q&A.
URL:https://www.lrc.columbia.edu/event/instructional-innovation-projects-showcase/
ATTACH;FMTTYPE=image/jpeg:https://www.lrc.columbia.edu/wp-content/uploads/2025/01/Instructional-Innovation-Projects-Showcase-Email-e1744314894790.jpg
END:VEVENT
END:VCALENDAR