BEGIN:VCALENDAR
VERSION:2.0
PRODID:-//Columbia LRC - ECPv5.9.1//NONSGML v1.0//EN
CALSCALE:GREGORIAN
METHOD:PUBLISH
X-WR-CALNAME:Columbia LRC
X-ORIGINAL-URL:https://www.lrc.columbia.edu
X-WR-CALDESC:Events for Columbia LRC
BEGIN:VTIMEZONE
TZID:America/New_York
BEGIN:DAYLIGHT
TZOFFSETFROM:-0500
TZOFFSETTO:-0400
TZNAME:EDT
DTSTART:20240310T070000
END:DAYLIGHT
BEGIN:STANDARD
TZOFFSETFROM:-0400
TZOFFSETTO:-0500
TZNAME:EST
DTSTART:20241103T060000
END:STANDARD
END:VTIMEZONE
BEGIN:VEVENT
DTSTART;TZID=America/New_York:20240220T170000
DTEND;TZID=America/New_York:20240220T190000
DTSTAMP:20260421T143547
CREATED:20240202T211202Z
LAST-MODIFIED:20240202T211202Z
UID:10086-1708448400-1708455600@www.lrc.columbia.edu
SUMMARY:Spring 2024 Open House for the French Department
DESCRIPTION:Please join the French Department for their open house to learn about the French and Francophone Studies Major and Concentration\, to connect with peers and faculty\, and even get a look at study abroad in Paris (at Reid Hall). Refreshments\, in the form of delicious French pastries (and more)\, will be provided! \nWhen and Where: Tuesday\, February 20th from 5:00-7:00 p.m. at La Maison Française (Buell Hall).
URL:https://www.lrc.columbia.edu/event/spring-2024-open-house-for-the-french-department/
LOCATION:Buell Hall (La Maison Française)\, 515 W 116th Street\, New York\, NY\, 10027\, United States
CATEGORIES:Open House
ATTACH;FMTTYPE=image/png:https://www.lrc.columbia.edu/wp-content/uploads/2024/02/2024-French-Dept.-Spring-Open-House-updated-QR-code.png
ORGANIZER;CN="Department%20of%20French":MAILTO:byd1@columbia.edu
END:VEVENT
END:VCALENDAR