BEGIN:VCALENDAR
VERSION:2.0
PRODID:-//Columbia LRC - ECPv5.9.1//NONSGML v1.0//EN
CALSCALE:GREGORIAN
METHOD:PUBLISH
X-WR-CALNAME:Columbia LRC
X-ORIGINAL-URL:https://www.lrc.columbia.edu
X-WR-CALDESC:Events for Columbia LRC
BEGIN:VTIMEZONE
TZID:America/New_York
BEGIN:DAYLIGHT
TZOFFSETFROM:-0500
TZOFFSETTO:-0400
TZNAME:EDT
DTSTART:20230312T070000
END:DAYLIGHT
BEGIN:STANDARD
TZOFFSETFROM:-0400
TZOFFSETTO:-0500
TZNAME:EST
DTSTART:20231105T060000
END:STANDARD
END:VTIMEZONE
BEGIN:VEVENT
DTSTART;TZID=America/New_York:20230929T050000
DTEND;TZID=America/New_York:20230929T140000
DTSTAMP:20260425T234532
CREATED:20230912T221404Z
LAST-MODIFIED:20230912T222256Z
UID:9054-1695963600-1695996000@www.lrc.columbia.edu
SUMMARY:AIRiAL Fall 2023 Conference at Teacher's College (Day I)
DESCRIPTION:The AL & TESOL Language & Technology Research Group presents the Artificial Intelligence Research in Applied Linguists (AIRiAL) Conference at Teachers College\, Columbia University. The aim of the conference is to provide a forum for scholars and researchers to discuss ideas and explore interests in the wide-ranging field of Applied Linguistics and Artificial Intelligence. Scholars\, teachers\, course developers\, and researchers in the field of Applied Linguistics and Artificial Intelligence are invited to present their research and ideas exploring the relationship between Language Research and Artificial Intelligence that align with our conference theme\, every year. The theme for AIRiAL 2023 Conference is “The Future of Artificial Intelligence in Applied Linguistics”. \nDetails of the Conference: \n\nPlenary Speakers:\n\nAlina von Davier\, Duolingo | Human-Centered AI and Trust Building in Language Learning and Testing Systems\nKadriye Ercikan\, Educational Testing Service | Optimizing Validity and Fairness of Artificial-Intelligence-Based Automated Scoring\nEvelina Galaczi\, Cambridge University Press and Assessment | Language Learning with ChatGPT: Should We Be Excited? Or Should We Be Worried?\n\n\nTheme: The Future of Artificial Intelligence in Applied Linguistics\nDate: September 29-30\, 2023\nVenue: Teachers College\, Columbia University\, GDH 179\n\n*All presentations will be in person at Teachers College.
URL:https://www.lrc.columbia.edu/event/airial-fall-2023-conference-at-teachers-college/
LOCATION:Teacher’s College | Columbia University\, 525 W 120th St #91\, New York\, NY\, 10027\, United States
CATEGORIES:Other
ATTACH;FMTTYPE=image/png:https://www.lrc.columbia.edu/wp-content/uploads/2023/09/Screenshot-2023-08-28-at-11.27.20-AM.png
END:VEVENT
BEGIN:VEVENT
DTSTART;TZID=America/New_York:20230929T080000
DTEND;TZID=America/New_York:20230929T090000
DTSTAMP:20260425T234532
CREATED:20230919T223719Z
LAST-MODIFIED:20231005T165647Z
UID:9150-1695974400-1695978000@www.lrc.columbia.edu
SUMMARY:Vietnamese Conversation Hour with VSA
DESCRIPTION:Want to strengthen your Vietnamese speaking skills? Join the Vietnamese Conversation Hour\, a conversation practice opportunity offered by the Vietnamese Language Program.  \nOnce a month on Fridays from 12-1 p.m. at 700 Uris Hall: 09/29; 10/20; 11/17; 12/08 \nIf you need more information\, please email Professor Chung P. Nguyen at cn2496@columbia.edu.
URL:https://www.lrc.columbia.edu/event/vietnamese-conversation-hour-with-vsa-4/
LOCATION:700 Uris Hall\, 3022 Broadway\, New York\, NY\, 10027\, United States
CATEGORIES:Conversation Hours
ATTACH;FMTTYPE=image/png:https://www.lrc.columbia.edu/wp-content/uploads/2023/09/Vietnamese-Language-Chat-Table-with-VSA.png
ORGANIZER;CN="EALAC":MAILTO:N/A
END:VEVENT
BEGIN:VEVENT
DTSTART;TZID=America/New_York:20230929T080000
DTEND;TZID=America/New_York:20230929T090000
DTSTAMP:20260425T234532
CREATED:20230919T234112Z
LAST-MODIFIED:20231005T182111Z
UID:9211-1695974400-1695978000@www.lrc.columbia.edu
SUMMARY:BCS Conversation Hour
DESCRIPTION:Want to strengthen your Bosnian-Croatian-Serbian speaking skills? Join the BCS Conversation Hour\, a conversation practice opportunity offered by the Bosnian-Croatian-Serbian Language Program. \nFridays from 12-1 pm at Joe Coffee next to Pulitzer Hall (2950 Broadway Pulitzer Hall). If you have more questions\, please email em3627@columbia.edu for more information.
URL:https://www.lrc.columbia.edu/event/bcs-conversation-hour-13/
LOCATION:Joe Coffee\, 550 W 120th St\, New York\, New York\, 10027\, United States
CATEGORIES:Conversation Hours
ATTACH;FMTTYPE=image/jpeg:https://www.lrc.columbia.edu/wp-content/uploads/2023/09/Bosnian-Croatian-Serbian-scaled.jpg
ORGANIZER;CN="Department%20of%20Slavic%20Languages":MAILTO:N/A
END:VEVENT
BEGIN:VEVENT
DTSTART;TZID=America/New_York:20230929T110000
DTEND;TZID=America/New_York:20230929T120000
DTSTAMP:20260425T234532
CREATED:20230919T232224Z
LAST-MODIFIED:20231004T192922Z
UID:9187-1695985200-1695988800@www.lrc.columbia.edu
SUMMARY:Indonesian Language Table
DESCRIPTION:Want to strengthen your Indonesian speaking skills? Join the Indonesian Language Table\, a conversation practice opportunity offered by the Indonesian Language Program.  \nFridays from 3–4 p.m. in Room 352A at the Language Resource Center (International Affairs Building)
URL:https://www.lrc.columbia.edu/event/indonesian-language-table-23/
LOCATION:Room 352A (Language Resource Center)\, International Affairs Building\, 420 W 118 Street\, New York\, NY\, 10027\, United States
CATEGORIES:Conversation Hours
ATTACH;FMTTYPE=image/png:https://www.lrc.columbia.edu/wp-content/uploads/2023/09/Fridays-3-4-pm.png
ORGANIZER;CN="Indonesian%20Language%20Program":MAILTO:ll3765@columbia.edu
END:VEVENT
END:VCALENDAR