BEGIN:VCALENDAR
VERSION:2.0
PRODID:-//Columbia LRC - ECPv5.9.1//NONSGML v1.0//EN
CALSCALE:GREGORIAN
METHOD:PUBLISH
X-WR-CALNAME:Columbia LRC
X-ORIGINAL-URL:https://www.lrc.columbia.edu
X-WR-CALDESC:Events for Columbia LRC
BEGIN:VTIMEZONE
TZID:America/New_York
BEGIN:DAYLIGHT
TZOFFSETFROM:-0500
TZOFFSETTO:-0400
TZNAME:EDT
DTSTART:20240310T070000
END:DAYLIGHT
BEGIN:STANDARD
TZOFFSETFROM:-0400
TZOFFSETTO:-0500
TZNAME:EST
DTSTART:20241103T060000
END:STANDARD
END:VTIMEZONE
BEGIN:VEVENT
DTSTART;TZID=America/New_York:20240222T080000
DTEND;TZID=America/New_York:20240222T210000
DTSTAMP:20260424T194023
CREATED:20240124T213513Z
LAST-MODIFIED:20240221T182057Z
UID:9974-1708588800-1708635600@www.lrc.columbia.edu
SUMMARY:2024 Northeast Conference on the Teaching of Foreign Languages (NECTFL) Conference Day I
DESCRIPTION:From February 22-24th of this 2024\, the NECTFL will be holding their annual conference at New York Hilton Midtown on 1335 Sixth Avenue in New York. The conference is open to anyone interested in professional growth for language teacher. Registration is required\, can be completed through the web portal and is ongoing until the conference starts. \nThe 2024 conference theme is Our Butterfly Effect: Creating a Lasting Impact. It is time to consider what we have learned over the past 70 years of the Northeast Conference. How has our conference had an impact on the field? What have students learned as a result of teachers coming to the annual conference? Our story is an important one for the field.  How do professional conferences make us stronger teachers? How can we help promote teaching for proficiency?  This conference theme is designed to bring us all back to the essence of why we teach: the learners and how we can best support them and their learning. \n*More information can be found here relating to the conference: https://www.nectfl.org/2024-conference/ 
URL:https://www.lrc.columbia.edu/event/2024-northeast-conference-on-the-teaching-of-foreign-languages-nectfl-conference-day-i/
LOCATION:New York Hilton Midtown\, 1335 Sixth Avenue\, New York\, NY\, 10019\, United States
CATEGORIES:Other
ATTACH;FMTTYPE=image/png:https://www.lrc.columbia.edu/wp-content/uploads/2024/01/Screen-Shot-2024-02-16-at-10.18.34-AM.png
ORGANIZER;CN="Northeast%20Conference%20on%20the%20Teaching%20of%20Foreign%20Languages":MAILTO:info@nectfl.org
END:VEVENT
BEGIN:VEVENT
DTSTART;TZID=America/New_York:20240222T163000
DTEND;TZID=America/New_York:20240222T173000
DTSTAMP:20260424T194023
CREATED:20240208T200917Z
LAST-MODIFIED:20240208T200917Z
UID:10230-1708619400-1708623000@www.lrc.columbia.edu
SUMMARY:Café y Conversación Spring 2024
DESCRIPTION:¡Hola\, toma un cafecito y practica tu español! Offered by the LAIC and led by students\, for students of all levels of Spanish. \nThursdays 4:30-5:30 pm\, in the Lobby of the Casa Hispánica\, 612 W. 116th Street (between Broadway and Riverside). Please call (212) 854-4187 for more information. ¡Hasta pronto!
URL:https://www.lrc.columbia.edu/event/cafe-y-conversacion-spring-2024-3/
LOCATION:Casa Hispánica\, 612 W 116th St\, New York\, NY\, 10027\, United States
CATEGORIES:Conversation Hours
ATTACH;FMTTYPE=image/png:https://www.lrc.columbia.edu/wp-content/uploads/2024/02/Screen-Shot-2024-02-08-at-2.52.30-PM.png
ORGANIZER;CN="LAIC":MAILTO:(212) 854-4187
END:VEVENT
BEGIN:VEVENT
DTSTART;TZID=America/New_York:20240222T163000
DTEND;TZID=America/New_York:20240222T173000
DTSTAMP:20260424T194023
CREATED:20240223T230112Z
LAST-MODIFIED:20240223T230112Z
UID:10513-1708619400-1708623000@www.lrc.columbia.edu
SUMMARY:Cafè Català Spring 2024
DESCRIPTION:Bon dia! Want to strengthen your Catalan speaking skills? Join Cafè Català\, a conversation practice opportunity offered by the Latin American and Iberian Cultures Department.  \nThursdays from 4:30–5:30 pm at Casa Hispánica (612 W 116th St).
URL:https://www.lrc.columbia.edu/event/cafe-catala-spring-2024/
LOCATION:Casa Hispánica\, 612 W 116th St\, New York\, NY\, 10027\, United States
CATEGORIES:Conversation Hours
ATTACH;FMTTYPE=image/png:https://www.lrc.columbia.edu/wp-content/uploads/2024/02/Screen-Shot-2024-02-23-at-5.54.46-PM.png
ORGANIZER;CN="LAIC":MAILTO:(212) 854-4187
END:VEVENT
BEGIN:VEVENT
DTSTART;TZID=America/New_York:20240222T170000
DTEND;TZID=America/New_York:20240222T180000
DTSTAMP:20260424T194023
CREATED:20240118T161102Z
LAST-MODIFIED:20240118T161102Z
UID:9757-1708621200-1708624800@www.lrc.columbia.edu
SUMMARY:Russia Tea Gathering (чаепитие) Spring 2024
DESCRIPTION:If you wish to practice speaking Russian outside of the classroom\, if you seek good company to discuss various themes and topics informally\, and especially if you crave some strong (or herbal) tea with cookies\, PLEASE JOIN US EVERY THURSDAY AT 5:00 PM IN THE READING ROOM (713 HAMILTON HALL). \n*All levels of Russian are welcome! Questions? Please email Tatiana Mikhailova (tm3100@columbia.edu)
URL:https://www.lrc.columbia.edu/event/russia-tea-gathering-%d1%87%d0%b0%d0%b5%d0%bf%d0%b8%d1%82%d0%b8%d0%b5-spring-2024-5/
LOCATION:713 Hamilton Hall\, 1130 Amsterdam Ave\, New York\, NY\, 10027\, United States
CATEGORIES:Conversation Hours
ATTACH;FMTTYPE=image/png:https://www.lrc.columbia.edu/wp-content/uploads/2023/10/Russian-tea-1.png
ORGANIZER;CN="Department%20of%20Slavic%20Languages":MAILTO:N/A
END:VEVENT
END:VCALENDAR